BEGIN:VCALENDAR
VERSION:2.0
PRODID:-//Contratero//ES
CALSCALE:GREGORIAN
METHOD:PUBLISH
BEGIN:VEVENT
UID:PAS ARTS 529/25@contratero.es
DTSTAMP:20260420T155252Z
DTSTART:20260113T235959
DTEND:20260114T005959
SUMMARY:Cierre: Contratación de una plataforma documental para la 
DESCRIPTION:Contratación de una plataforma documental para la coordinación de actividades empresariales en materia de prevención de riesgos la borales del Palau de Les Arts "Reina Sofía"\\n\\nOrganismo: Dirección General de la Fundación Palau de Les Arts Reina Sofía\\n\\nVer en Contratero: https://contratero.es/contracts/PAS ARTS 529/25
URL:https://contratero.es/contracts/PAS ARTS 529/25
STATUS:CONFIRMED
BEGIN:VALARM
TRIGGER:-P1D
ACTION:DISPLAY
DESCRIPTION:Recordatorio: Contratación de una plataforma
END:VALARM
END:VEVENT
END:VCALENDAR